BEGIN:VCALENDAR
VERSION:2.0
PRODID:-//Cyclo-Bourcain - ECPv6.15.20//NONSGML v1.0//EN
CALSCALE:GREGORIAN
METHOD:PUBLISH
X-ORIGINAL-URL:https://www.cyclo-bourcain.net
X-WR-CALDESC:Évènements pour Cyclo-Bourcain
REFRESH-INTERVAL;VALUE=DURATION:PT1H
X-Robots-Tag:noindex
X-PUBLISHED-TTL:PT1H
BEGIN:VTIMEZONE
TZID:Europe/Paris
BEGIN:DAYLIGHT
TZOFFSETFROM:+0100
TZOFFSETTO:+0200
TZNAME:CEST
DTSTART:20240331T010000
END:DAYLIGHT
BEGIN:STANDARD
TZOFFSETFROM:+0200
TZOFFSETTO:+0100
TZNAME:CET
DTSTART:20241027T010000
END:STANDARD
BEGIN:DAYLIGHT
TZOFFSETFROM:+0100
TZOFFSETTO:+0200
TZNAME:CEST
DTSTART:20250330T010000
END:DAYLIGHT
BEGIN:STANDARD
TZOFFSETFROM:+0200
TZOFFSETTO:+0100
TZNAME:CET
DTSTART:20251026T010000
END:STANDARD
BEGIN:DAYLIGHT
TZOFFSETFROM:+0100
TZOFFSETTO:+0200
TZNAME:CEST
DTSTART:20260329T010000
END:DAYLIGHT
BEGIN:STANDARD
TZOFFSETFROM:+0200
TZOFFSETTO:+0100
TZNAME:CET
DTSTART:20261025T010000
END:STANDARD
END:VTIMEZONE
BEGIN:VEVENT
DTSTART;TZID=Europe/Paris:20250319T180000
DTEND;TZID=Europe/Paris:20250319T190000
DTSTAMP:20260425T210037
CREATED:20241205T125547Z
LAST-MODIFIED:20241205T125547Z
UID:15629-1742407200-1742410800@www.cyclo-bourcain.net
SUMMARY:RÉUNION DE BUREAU - VIOLETTES
DESCRIPTION:
URL:https://www.cyclo-bourcain.net/agenda/reunion-de-bureau-violettes/
LOCATION:Vélocal\, BLV
CATEGORIES:Réunions
END:VEVENT
END:VCALENDAR