BEGIN:VCALENDAR
VERSION:2.0
PRODID:-//Cyclo-Bourcain - ECPv6.15.20//NONSGML v1.0//EN
CALSCALE:GREGORIAN
METHOD:PUBLISH
X-ORIGINAL-URL:https://www.cyclo-bourcain.net
X-WR-CALDESC:Évènements pour Cyclo-Bourcain
REFRESH-INTERVAL;VALUE=DURATION:PT1H
X-Robots-Tag:noindex
X-PUBLISHED-TTL:PT1H
BEGIN:VTIMEZONE
TZID:Europe/Paris
BEGIN:DAYLIGHT
TZOFFSETFROM:+0100
TZOFFSETTO:+0200
TZNAME:CEST
DTSTART:20240331T010000
END:DAYLIGHT
BEGIN:STANDARD
TZOFFSETFROM:+0200
TZOFFSETTO:+0100
TZNAME:CET
DTSTART:20241027T010000
END:STANDARD
BEGIN:DAYLIGHT
TZOFFSETFROM:+0100
TZOFFSETTO:+0200
TZNAME:CEST
DTSTART:20250330T010000
END:DAYLIGHT
BEGIN:STANDARD
TZOFFSETFROM:+0200
TZOFFSETTO:+0100
TZNAME:CET
DTSTART:20251026T010000
END:STANDARD
BEGIN:DAYLIGHT
TZOFFSETFROM:+0100
TZOFFSETTO:+0200
TZNAME:CEST
DTSTART:20260329T010000
END:DAYLIGHT
BEGIN:STANDARD
TZOFFSETFROM:+0200
TZOFFSETTO:+0100
TZNAME:CET
DTSTART:20261025T010000
END:STANDARD
BEGIN:DAYLIGHT
TZOFFSETFROM:+0100
TZOFFSETTO:+0200
TZNAME:CEST
DTSTART:20270328T010000
END:DAYLIGHT
BEGIN:STANDARD
TZOFFSETFROM:+0200
TZOFFSETTO:+0100
TZNAME:CET
DTSTART:20271031T010000
END:STANDARD
END:VTIMEZONE
BEGIN:VEVENT
DTSTART;TZID=Europe/Paris:20260424T080000
DTEND;TZID=Europe/Paris:20260424T170000
DTSTAMP:20260424T182512
CREATED:20260417T093901Z
LAST-MODIFIED:20260417T093901Z
UID:17048-1777017600-1777050000@www.cyclo-bourcain.net
SUMMARY:PERMANENCE VÉLOCAL
DESCRIPTION:
URL:https://www.cyclo-bourcain.net/agenda/permanence-velocal-2/
END:VEVENT
BEGIN:VEVENT
DTSTART;TZID=Europe/Paris:20260418T080000
DTEND;TZID=Europe/Paris:20260418T170000
DTSTAMP:20260424T182513
CREATED:20260417T092808Z
LAST-MODIFIED:20260417T092808Z
UID:17024-1776499200-1776531600@www.cyclo-bourcain.net
SUMMARY:RANDO DES 3 VALLÉES\, ANNEYRON
DESCRIPTION:
URL:https://www.cyclo-bourcain.net/agenda/rando-des-3-vallees-anneyron/
END:VEVENT
BEGIN:VEVENT
DTSTART;TZID=Europe/Paris:20260411T080000
DTEND;TZID=Europe/Paris:20260411T170000
DTSTAMP:20260424T182513
CREATED:20260417T092734Z
LAST-MODIFIED:20260417T092734Z
UID:17022-1775894400-1775926800@www.cyclo-bourcain.net
SUMMARY:RANDO SAINT-DONAT
DESCRIPTION:
URL:https://www.cyclo-bourcain.net/agenda/rando-saint-donat/
END:VEVENT
BEGIN:VEVENT
DTSTART;TZID=Europe/Paris:20260407T180000
DTEND;TZID=Europe/Paris:20260407T190000
DTSTAMP:20260424T182513
CREATED:20260417T091054Z
LAST-MODIFIED:20260417T091054Z
UID:16979-1775584800-1775588400@www.cyclo-bourcain.net
SUMMARY:RÉUNION BUREAU
DESCRIPTION:
URL:https://www.cyclo-bourcain.net/agenda/reunion-bureau/
END:VEVENT
BEGIN:VEVENT
DTSTART;TZID=Europe/Paris:20260401T180000
DTEND;TZID=Europe/Paris:20260401T180000
DTSTAMP:20260424T182513
CREATED:20260417T092418Z
LAST-MODIFIED:20260417T092418Z
UID:17014-1775066400-1775066400@www.cyclo-bourcain.net
SUMMARY:REUNION BUREAU
DESCRIPTION:
URL:https://www.cyclo-bourcain.net/agenda/reunion-bureau-3/
END:VEVENT
BEGIN:VEVENT
DTSTART;TZID=Europe/Paris:20260330T080000
DTEND;TZID=Europe/Paris:20260330T170000
DTSTAMP:20260424T182513
CREATED:20260417T092248Z
LAST-MODIFIED:20260417T092248Z
UID:17010-1774857600-1774890000@www.cyclo-bourcain.net
SUMMARY:VIOLETTES DEFLÉCHAGE
DESCRIPTION:
URL:https://www.cyclo-bourcain.net/agenda/violettes-deflechage/
END:VEVENT
BEGIN:VEVENT
DTSTART;TZID=Europe/Paris:20260328T080000
DTEND;TZID=Europe/Paris:20260328T170000
DTSTAMP:20260424T182513
CREATED:20260417T092152Z
LAST-MODIFIED:20260417T092152Z
UID:17006-1774684800-1774717200@www.cyclo-bourcain.net
SUMMARY:RANDO DES VIOLETTES
DESCRIPTION:
URL:https://www.cyclo-bourcain.net/agenda/rando-des-violettes/
END:VEVENT
BEGIN:VEVENT
DTSTART;TZID=Europe/Paris:20260327T080000
DTEND;TZID=Europe/Paris:20260327T170000
DTSTAMP:20260424T182513
CREATED:20260417T092224Z
LAST-MODIFIED:20260417T092224Z
UID:17008-1774598400-1774630800@www.cyclo-bourcain.net
SUMMARY:VIOLETTES FLÉCHAGE
DESCRIPTION:
URL:https://www.cyclo-bourcain.net/agenda/violettes-flechage/
END:VEVENT
BEGIN:VEVENT
DTSTART;TZID=Europe/Paris:20260321T080000
DTEND;TZID=Europe/Paris:20260321T170000
DTSTAMP:20260424T182513
CREATED:20260417T092605Z
LAST-MODIFIED:20260417T092605Z
UID:17020-1774080000-1774112400@www.cyclo-bourcain.net
SUMMARY:RANDO PAS DE LAUZUN
DESCRIPTION:
URL:https://www.cyclo-bourcain.net/agenda/rando-pas-de-lauzun/
END:VEVENT
BEGIN:VEVENT
DTSTART;TZID=Europe/Paris:20260319T190000
DTEND;TZID=Europe/Paris:20260319T190000
DTSTAMP:20260424T182513
CREATED:20260417T092052Z
LAST-MODIFIED:20260417T092052Z
UID:17004-1773946800-1773946800@www.cyclo-bourcain.net
SUMMARY:RÉUNION CLUB VIOLETTES
DESCRIPTION:
URL:https://www.cyclo-bourcain.net/agenda/reunion-club-violettes-2/
END:VEVENT
BEGIN:VEVENT
DTSTART;TZID=Europe/Paris:20260318T180000
DTEND;TZID=Europe/Paris:20260318T180000
DTSTAMP:20260424T182513
CREATED:20260417T092019Z
LAST-MODIFIED:20260417T092019Z
UID:17002-1773856800-1773856800@www.cyclo-bourcain.net
SUMMARY:RÉUNION BUREAU VIOLETTES
DESCRIPTION:
URL:https://www.cyclo-bourcain.net/agenda/reunion-bureau-violettes/
END:VEVENT
BEGIN:VEVENT
DTSTART;TZID=Europe/Paris:20260315T080000
DTEND;TZID=Europe/Paris:20260315T080000
DTSTAMP:20260424T182513
CREATED:20260417T091837Z
LAST-MODIFIED:20260417T091837Z
UID:16998-1773561600-1773561600@www.cyclo-bourcain.net
SUMMARY:JOURNÉE FÉMININE CODEP\, VAUNAVEYS-LA-ROCHETTE
DESCRIPTION:
URL:https://www.cyclo-bourcain.net/agenda/journee-feminine-codep-vaunaveys-la-rochette/
END:VEVENT
BEGIN:VEVENT
DTSTART;TZID=Europe/Paris:20260314T080000
DTEND;TZID=Europe/Paris:20260314T170000
DTSTAMP:20260424T182513
CREATED:20260417T092544Z
LAST-MODIFIED:20260417T092544Z
UID:17018-1773475200-1773507600@www.cyclo-bourcain.net
SUMMARY:RANDO 1ER PAS
DESCRIPTION:
URL:https://www.cyclo-bourcain.net/agenda/rando-1er-pas/
END:VEVENT
BEGIN:VEVENT
DTSTART;TZID=Europe/Paris:20260311T180000
DTEND;TZID=Europe/Paris:20260311T180000
DTSTAMP:20260424T182513
CREATED:20260417T091934Z
LAST-MODIFIED:20260417T091934Z
UID:17000-1773252000-1773252000@www.cyclo-bourcain.net
SUMMARY:RÉUNION PRÉPA VIOLETTES
DESCRIPTION:
URL:https://www.cyclo-bourcain.net/agenda/reunion-prepa-violettes/
END:VEVENT
BEGIN:VEVENT
DTSTART;TZID=Europe/Paris:20260307T080000
DTEND;TZID=Europe/Paris:20260307T170000
DTSTAMP:20260424T182513
CREATED:20260417T092519Z
LAST-MODIFIED:20260417T092519Z
UID:17016-1772870400-1772902800@www.cyclo-bourcain.net
SUMMARY:RANDO COALA
DESCRIPTION:
URL:https://www.cyclo-bourcain.net/agenda/rando-coala/
END:VEVENT
BEGIN:VEVENT
DTSTART;TZID=Europe/Paris:20260301T080000
DTEND;TZID=Europe/Paris:20260301T170000
DTSTAMP:20260424T182513
CREATED:20260417T092326Z
LAST-MODIFIED:20260417T092326Z
UID:17012-1772352000-1772384400@www.cyclo-bourcain.net
SUMMARY:RENCONTRE DES CLUBS DRÔMOIS
DESCRIPTION:
URL:https://www.cyclo-bourcain.net/agenda/rencontre-des-clubs-dromois/
END:VEVENT
BEGIN:VEVENT
DTSTART;TZID=Europe/Paris:20260227T180000
DTEND;TZID=Europe/Paris:20260227T180000
DTSTAMP:20260424T182513
CREATED:20260417T091718Z
LAST-MODIFIED:20260417T091730Z
UID:16996-1772215200-1772215200@www.cyclo-bourcain.net
SUMMARY:PERMANENCE VÉLOCAL
DESCRIPTION:
URL:https://www.cyclo-bourcain.net/agenda/permanence-velocal/
END:VEVENT
BEGIN:VEVENT
DTSTART;TZID=Europe/Paris:20260211T180000
DTEND;TZID=Europe/Paris:20260211T180000
DTSTAMP:20260424T182513
CREATED:20260417T091644Z
LAST-MODIFIED:20260417T091644Z
UID:16994-1770832800-1770832800@www.cyclo-bourcain.net
SUMMARY:RÉUNION BUREAU
DESCRIPTION:
URL:https://www.cyclo-bourcain.net/agenda/reunion-bureau-2/
END:VEVENT
BEGIN:VEVENT
DTSTART;TZID=Europe/Paris:20260206T180000
DTEND;TZID=Europe/Paris:20260206T180000
DTSTAMP:20260424T182513
CREATED:20260417T091606Z
LAST-MODIFIED:20260417T091606Z
UID:16992-1770400800-1770400800@www.cyclo-bourcain.net
SUMMARY:PERMANENCE LICENCES
DESCRIPTION:
URL:https://www.cyclo-bourcain.net/agenda/permanence-licences-5/
END:VEVENT
BEGIN:VEVENT
DTSTART;TZID=Europe/Paris:20260201T090000
DTEND;TZID=Europe/Paris:20260201T090000
DTSTAMP:20260424T182513
CREATED:20260417T091352Z
LAST-MODIFIED:20260417T091440Z
UID:16987-1769936400-1769936400@www.cyclo-bourcain.net
SUMMARY:RANDO CLUB LA VOULTE
DESCRIPTION:
URL:https://www.cyclo-bourcain.net/agenda/permanence-licences-3/
END:VEVENT
BEGIN:VEVENT
DTSTART;TZID=Europe/Paris:20260130T180000
DTEND;TZID=Europe/Paris:20260130T180000
DTSTAMP:20260424T182513
CREATED:20260417T091520Z
LAST-MODIFIED:20260417T091520Z
UID:16990-1769796000-1769796000@www.cyclo-bourcain.net
SUMMARY:PERMANENCE LICENCES
DESCRIPTION:
URL:https://www.cyclo-bourcain.net/agenda/permanence-licences-4/
END:VEVENT
BEGIN:VEVENT
DTSTART;TZID=Europe/Paris:20260123T180000
DTEND;TZID=Europe/Paris:20260123T180000
DTSTAMP:20260424T182513
CREATED:20260417T091321Z
LAST-MODIFIED:20260417T091321Z
UID:16985-1769191200-1769191200@www.cyclo-bourcain.net
SUMMARY:PERMANENCE LICENCES
DESCRIPTION:
URL:https://www.cyclo-bourcain.net/agenda/permanence-licences-2/
END:VEVENT
BEGIN:VEVENT
DTSTART;TZID=Europe/Paris:20260116T180000
DTEND;TZID=Europe/Paris:20260116T180000
DTSTAMP:20260424T182513
CREATED:20260417T091236Z
LAST-MODIFIED:20260417T091236Z
UID:16983-1768586400-1768586400@www.cyclo-bourcain.net
SUMMARY:PERMANENCE LICENCES
DESCRIPTION:
URL:https://www.cyclo-bourcain.net/agenda/permanence-licences/
END:VEVENT
BEGIN:VEVENT
DTSTART;TZID=Europe/Paris:20260108T080000
DTEND;TZID=Europe/Paris:20260108T170000
DTSTAMP:20260424T182513
CREATED:20260417T091138Z
LAST-MODIFIED:20260417T091138Z
UID:16981-1767859200-1767891600@www.cyclo-bourcain.net
SUMMARY:RÉUNION CLUB - LICENCES - GALETTE
DESCRIPTION:
URL:https://www.cyclo-bourcain.net/agenda/reunion-club-licences-galette/
END:VEVENT
BEGIN:VEVENT
DTSTART;TZID=Europe/Paris:20260102T180000
DTEND;TZID=Europe/Paris:20260102T190000
DTSTAMP:20260424T182513
CREATED:20241205T124305Z
LAST-MODIFIED:20260417T091013Z
UID:15611-1767376800-1767380400@www.cyclo-bourcain.net
SUMMARY:PERMANENCE LICENCES
DESCRIPTION:
URL:https://www.cyclo-bourcain.net/agenda/permanence-licences-30/
LOCATION:Vélocal\, BLV
CATEGORIES:Permanence
END:VEVENT
BEGIN:VEVENT
DTSTART;TZID=Europe/Paris:20251212T190000
DTEND;TZID=Europe/Paris:20251212T190000
DTSTAMP:20260424T182513
CREATED:20241206T123511Z
LAST-MODIFIED:20260417T085639Z
UID:15721-1765566000-1765566000@www.cyclo-bourcain.net
SUMMARY:REPAS CLUB : Le Route Nationale à Tain-l'Hermitage
DESCRIPTION:
URL:https://www.cyclo-bourcain.net/agenda/repas-club-theme/
CATEGORIES:Réunions
END:VEVENT
BEGIN:VEVENT
DTSTART;VALUE=DATE:20251206
DTEND;VALUE=DATE:20251208
DTSTAMP:20260424T182513
CREATED:20241206T123419Z
LAST-MODIFIED:20241206T123419Z
UID:15719-1764979200-1765151999@www.cyclo-bourcain.net
SUMMARY:TÉLÉTHON 2025 : ALIXAN - PORTES-LÈS-VALENCE
DESCRIPTION:
URL:https://www.cyclo-bourcain.net/agenda/telethon-2025-alixan-portes-les-valence/
CATEGORIES:Randonnées & Rallyes
END:VEVENT
BEGIN:VEVENT
DTSTART;TZID=Europe/Paris:20251128T180000
DTEND;TZID=Europe/Paris:20251128T193000
DTSTAMP:20260424T182513
CREATED:20241206T123239Z
LAST-MODIFIED:20241206T123245Z
UID:15717-1764352800-1764358200@www.cyclo-bourcain.net
SUMMARY:PERMANENCE CLUB
DESCRIPTION:
URL:https://www.cyclo-bourcain.net/agenda/permanence-club-4/
LOCATION:Vélocal\, BLV
END:VEVENT
BEGIN:VEVENT
DTSTART;TZID=Europe/Paris:20251112T190000
DTEND;TZID=Europe/Paris:20251112T203000
DTSTAMP:20260424T182513
CREATED:20241206T123152Z
LAST-MODIFIED:20241206T123152Z
UID:15715-1762974000-1762979400@www.cyclo-bourcain.net
SUMMARY:RÉUNION DU BUREAU POST AG
DESCRIPTION:
URL:https://www.cyclo-bourcain.net/agenda/reunion-du-bureau-post-ag/
LOCATION:Vélocal\, BLV
END:VEVENT
BEGIN:VEVENT
DTSTART;VALUE=DATE:20251111
DTEND;VALUE=DATE:20251112
DTSTAMP:20260424T182513
CREATED:20241206T123053Z
LAST-MODIFIED:20241206T123053Z
UID:15713-1762819200-1762905599@www.cyclo-bourcain.net
SUMMARY:FÉRIÉ
DESCRIPTION:
URL:https://www.cyclo-bourcain.net/agenda/ferie-25/
CATEGORIES:Férié
END:VEVENT
END:VCALENDAR