BEGIN:VCALENDAR
VERSION:2.0
PRODID:-//Cyclo-Bourcain - ECPv6.15.20//NONSGML v1.0//EN
CALSCALE:GREGORIAN
METHOD:PUBLISH
X-WR-CALNAME:Cyclo-Bourcain
X-ORIGINAL-URL:https://www.cyclo-bourcain.net
X-WR-CALDESC:Évènements pour Cyclo-Bourcain
REFRESH-INTERVAL;VALUE=DURATION:PT1H
X-Robots-Tag:noindex
X-PUBLISHED-TTL:PT1H
BEGIN:VTIMEZONE
TZID:Europe/Paris
BEGIN:DAYLIGHT
TZOFFSETFROM:+0100
TZOFFSETTO:+0200
TZNAME:CEST
DTSTART:20250330T010000
END:DAYLIGHT
BEGIN:STANDARD
TZOFFSETFROM:+0200
TZOFFSETTO:+0100
TZNAME:CET
DTSTART:20251026T010000
END:STANDARD
BEGIN:DAYLIGHT
TZOFFSETFROM:+0100
TZOFFSETTO:+0200
TZNAME:CEST
DTSTART:20260329T010000
END:DAYLIGHT
BEGIN:STANDARD
TZOFFSETFROM:+0200
TZOFFSETTO:+0100
TZNAME:CET
DTSTART:20261025T010000
END:STANDARD
BEGIN:DAYLIGHT
TZOFFSETFROM:+0100
TZOFFSETTO:+0200
TZNAME:CEST
DTSTART:20270328T010000
END:DAYLIGHT
BEGIN:STANDARD
TZOFFSETFROM:+0200
TZOFFSETTO:+0100
TZNAME:CET
DTSTART:20271031T010000
END:STANDARD
END:VTIMEZONE
BEGIN:VEVENT
DTSTART;TZID=Europe/Paris:20261009T080000
DTEND;TZID=Europe/Paris:20261011T170000
DTSTAMP:20260424T211130
CREATED:20260417T101247Z
LAST-MODIFIED:20260417T101247Z
UID:17099-1791532800-1791738000@www.cyclo-bourcain.net
SUMMARY:WE AUTOMNE ???
DESCRIPTION:
URL:https://www.cyclo-bourcain.net/agenda/we-automne/
END:VEVENT
BEGIN:VEVENT
DTSTART;TZID=Europe/Paris:20261014T180000
DTEND;TZID=Europe/Paris:20261014T180000
DTSTAMP:20260424T211130
CREATED:20260417T101005Z
LAST-MODIFIED:20260417T101005Z
UID:17091-1792000800-1792000800@www.cyclo-bourcain.net
SUMMARY:RÉUNION BUREAU
DESCRIPTION:
URL:https://www.cyclo-bourcain.net/agenda/reunion-bureau-6/
END:VEVENT
BEGIN:VEVENT
DTSTART;TZID=Europe/Paris:20261030T080000
DTEND;TZID=Europe/Paris:20261030T170000
DTSTAMP:20260424T211130
CREATED:20260417T101028Z
LAST-MODIFIED:20260417T101028Z
UID:17093-1793347200-1793379600@www.cyclo-bourcain.net
SUMMARY:PERMANENCE VÉLOCAL
DESCRIPTION:
URL:https://www.cyclo-bourcain.net/agenda/permanence-velocal-6/
END:VEVENT
BEGIN:VEVENT
DTSTART;TZID=Europe/Paris:20261105T190000
DTEND;TZID=Europe/Paris:20261105T190000
DTSTAMP:20260424T211130
CREATED:20260417T100934Z
LAST-MODIFIED:20260417T100934Z
UID:17089-1793905200-1793905200@www.cyclo-bourcain.net
SUMMARY:ASSEMBLÉE GÉNÉRALE ORDINAIRE DU CB
DESCRIPTION:
URL:https://www.cyclo-bourcain.net/agenda/assemblee-generale-ordinaire-du-cb/
END:VEVENT
BEGIN:VEVENT
DTSTART;TZID=Europe/Paris:20261112T180000
DTEND;TZID=Europe/Paris:20261112T180000
DTSTAMP:20260424T211130
CREATED:20260417T101106Z
LAST-MODIFIED:20260417T101106Z
UID:17095-1794506400-1794506400@www.cyclo-bourcain.net
SUMMARY:RÉUNION BUREAU POST AG
DESCRIPTION:
URL:https://www.cyclo-bourcain.net/agenda/reunion-bureau-post-ag/
END:VEVENT
BEGIN:VEVENT
DTSTART;TZID=Europe/Paris:20261121T080000
DTEND;TZID=Europe/Paris:20261121T170000
DTSTAMP:20260424T211130
CREATED:20260417T101140Z
LAST-MODIFIED:20260417T101140Z
UID:17097-1795248000-1795280400@www.cyclo-bourcain.net
SUMMARY:REPAS CLUB ????
DESCRIPTION:
URL:https://www.cyclo-bourcain.net/agenda/repas-club-2/
END:VEVENT
END:VCALENDAR