BEGIN:VCALENDAR
VERSION:2.0
PRODID:-//Cyclo-Bourcain - ECPv6.15.20//NONSGML v1.0//EN
CALSCALE:GREGORIAN
METHOD:PUBLISH
X-ORIGINAL-URL:https://www.cyclo-bourcain.net
X-WR-CALDESC:Évènements pour Cyclo-Bourcain
REFRESH-INTERVAL;VALUE=DURATION:PT1H
X-Robots-Tag:noindex
X-PUBLISHED-TTL:PT1H
BEGIN:VTIMEZONE
TZID:Europe/Paris
BEGIN:DAYLIGHT
TZOFFSETFROM:+0100
TZOFFSETTO:+0200
TZNAME:CEST
DTSTART:20250330T010000
END:DAYLIGHT
BEGIN:STANDARD
TZOFFSETFROM:+0200
TZOFFSETTO:+0100
TZNAME:CET
DTSTART:20251026T010000
END:STANDARD
BEGIN:DAYLIGHT
TZOFFSETFROM:+0100
TZOFFSETTO:+0200
TZNAME:CEST
DTSTART:20260329T010000
END:DAYLIGHT
BEGIN:STANDARD
TZOFFSETFROM:+0200
TZOFFSETTO:+0100
TZNAME:CET
DTSTART:20261025T010000
END:STANDARD
BEGIN:DAYLIGHT
TZOFFSETFROM:+0100
TZOFFSETTO:+0200
TZNAME:CEST
DTSTART:20270328T010000
END:DAYLIGHT
BEGIN:STANDARD
TZOFFSETFROM:+0200
TZOFFSETTO:+0100
TZNAME:CET
DTSTART:20271031T010000
END:STANDARD
END:VTIMEZONE
BEGIN:VEVENT
DTSTART;TZID=Europe/Paris:20260606T080000
DTEND;TZID=Europe/Paris:20260606T170000
DTSTAMP:20260424T181034
CREATED:20260417T093631Z
LAST-MODIFIED:20260417T093631Z
UID:17042-1780732800-1780765200@www.cyclo-bourcain.net
SUMMARY:RANDO RAYE VERCORS\, CHABEUIL
DESCRIPTION:
URL:https://www.cyclo-bourcain.net/agenda/rando-raye-vercors-chabeuil/
END:VEVENT
BEGIN:VEVENT
DTSTART;TZID=Europe/Paris:20260610T080000
DTEND;TZID=Europe/Paris:20260613T170000
DTSTAMP:20260424T181034
CREATED:20260417T094329Z
LAST-MODIFIED:20260417T094329Z
UID:17060-1781078400-1781370000@www.cyclo-bourcain.net
SUMMARY:L'ARDÉCHOISE\, SAINT-FÉLICIEN
DESCRIPTION:
URL:https://www.cyclo-bourcain.net/agenda/lardechoise-saint-felicien/
END:VEVENT
BEGIN:VEVENT
DTSTART;TZID=Europe/Paris:20260625T183000
DTEND;TZID=Europe/Paris:20260625T183000
DTSTAMP:20260424T181034
CREATED:20260417T094429Z
LAST-MODIFIED:20260417T094429Z
UID:17062-1782412200-1782412200@www.cyclo-bourcain.net
SUMMARY:PIQUE-NIQUE CLUB\, GIRODET
DESCRIPTION:
URL:https://www.cyclo-bourcain.net/agenda/pique-nique-club-girodet/
END:VEVENT
BEGIN:VEVENT
DTSTART;TZID=Europe/Paris:20260627T080000
DTEND;TZID=Europe/Paris:20260627T170000
DTSTAMP:20260424T181034
CREATED:20260417T093751Z
LAST-MODIFIED:20260417T093751Z
UID:17044-1782547200-1782579600@www.cyclo-bourcain.net
SUMMARY:RANDO DU SOLEIL\, LA ROCHE DE GLUN
DESCRIPTION:INSCRIPTIONS PRISES EN CHARGE PAR LE CLUB
URL:https://www.cyclo-bourcain.net/agenda/rando-du-soleil-la-roche-de-glun/
END:VEVENT
END:VCALENDAR