BEGIN:VCALENDAR
VERSION:2.0
PRODID:-//Cyclo-Bourcain - ECPv6.15.20//NONSGML v1.0//EN
CALSCALE:GREGORIAN
METHOD:PUBLISH
X-WR-CALNAME:Cyclo-Bourcain
X-ORIGINAL-URL:https://www.cyclo-bourcain.net
X-WR-CALDESC:Évènements pour Cyclo-Bourcain
REFRESH-INTERVAL;VALUE=DURATION:PT1H
X-Robots-Tag:noindex
X-PUBLISHED-TTL:PT1H
BEGIN:VTIMEZONE
TZID:Europe/Paris
BEGIN:DAYLIGHT
TZOFFSETFROM:+0100
TZOFFSETTO:+0200
TZNAME:CEST
DTSTART:20250330T010000
END:DAYLIGHT
BEGIN:STANDARD
TZOFFSETFROM:+0200
TZOFFSETTO:+0100
TZNAME:CET
DTSTART:20251026T010000
END:STANDARD
BEGIN:DAYLIGHT
TZOFFSETFROM:+0100
TZOFFSETTO:+0200
TZNAME:CEST
DTSTART:20260329T010000
END:DAYLIGHT
BEGIN:STANDARD
TZOFFSETFROM:+0200
TZOFFSETTO:+0100
TZNAME:CET
DTSTART:20261025T010000
END:STANDARD
BEGIN:DAYLIGHT
TZOFFSETFROM:+0100
TZOFFSETTO:+0200
TZNAME:CEST
DTSTART:20270328T010000
END:DAYLIGHT
BEGIN:STANDARD
TZOFFSETFROM:+0200
TZOFFSETTO:+0100
TZNAME:CET
DTSTART:20271031T010000
END:STANDARD
END:VTIMEZONE
BEGIN:VEVENT
DTSTART;TZID=Europe/Paris:20260802T080000
DTEND;TZID=Europe/Paris:20260809T170000
DTSTAMP:20260424T205002
CREATED:20260417T094558Z
LAST-MODIFIED:20260417T094558Z
UID:17068-1785657600-1786294800@www.cyclo-bourcain.net
SUMMARY:SEMAINE FÉDÉRALE FFCT
DESCRIPTION:
URL:https://www.cyclo-bourcain.net/agenda/semaine-federale-ffct/
END:VEVENT
BEGIN:VEVENT
DTSTART;TZID=Europe/Paris:20260822T080000
DTEND;TZID=Europe/Paris:20260822T170000
DTSTAMP:20260424T205002
CREATED:20260417T094857Z
LAST-MODIFIED:20260417T094857Z
UID:17076-1787385600-1787418000@www.cyclo-bourcain.net
SUMMARY:RANDO DE LA LIORE
DESCRIPTION:PRISE EN CHARGE DES INSCRIPTIONS PAR LE CLUB
URL:https://www.cyclo-bourcain.net/agenda/rando-de-la-liore/
END:VEVENT
BEGIN:VEVENT
DTSTART;TZID=Europe/Paris:20260828T080000
DTEND;TZID=Europe/Paris:20260828T170000
DTSTAMP:20260424T205002
CREATED:20260417T094623Z
LAST-MODIFIED:20260417T094623Z
UID:17070-1787904000-1787936400@www.cyclo-bourcain.net
SUMMARY:PERMANENCE VÉLOCAL
DESCRIPTION:
URL:https://www.cyclo-bourcain.net/agenda/permanence-velocal-4/
END:VEVENT
END:VCALENDAR