BEGIN:VCALENDAR
VERSION:2.0
PRODID:-//Cyclo-Bourcain - ECPv6.15.20//NONSGML v1.0//EN
CALSCALE:GREGORIAN
METHOD:PUBLISH
X-ORIGINAL-URL:https://www.cyclo-bourcain.net
X-WR-CALDESC:Évènements pour Cyclo-Bourcain
REFRESH-INTERVAL;VALUE=DURATION:PT1H
X-Robots-Tag:noindex
X-PUBLISHED-TTL:PT1H
BEGIN:VTIMEZONE
TZID:Europe/Paris
BEGIN:DAYLIGHT
TZOFFSETFROM:+0100
TZOFFSETTO:+0200
TZNAME:CEST
DTSTART:20250330T010000
END:DAYLIGHT
BEGIN:STANDARD
TZOFFSETFROM:+0200
TZOFFSETTO:+0100
TZNAME:CET
DTSTART:20251026T010000
END:STANDARD
BEGIN:DAYLIGHT
TZOFFSETFROM:+0100
TZOFFSETTO:+0200
TZNAME:CEST
DTSTART:20260329T010000
END:DAYLIGHT
BEGIN:STANDARD
TZOFFSETFROM:+0200
TZOFFSETTO:+0100
TZNAME:CET
DTSTART:20261025T010000
END:STANDARD
BEGIN:DAYLIGHT
TZOFFSETFROM:+0100
TZOFFSETTO:+0200
TZNAME:CEST
DTSTART:20270328T010000
END:DAYLIGHT
BEGIN:STANDARD
TZOFFSETFROM:+0200
TZOFFSETTO:+0100
TZNAME:CET
DTSTART:20271031T010000
END:STANDARD
END:VTIMEZONE
BEGIN:VEVENT
DTSTART;TZID=Europe/Paris:20260902T080000
DTEND;TZID=Europe/Paris:20260902T170000
DTSTAMP:20260424T221504
CREATED:20260417T095006Z
LAST-MODIFIED:20260417T095006Z
UID:17078-1788336000-1788368400@www.cyclo-bourcain.net
SUMMARY:RÉUNION BUREAU
DESCRIPTION:
URL:https://www.cyclo-bourcain.net/agenda/reunion-bureau-5/
END:VEVENT
BEGIN:VEVENT
DTSTART;TZID=Europe/Paris:20260904T190000
DTEND;TZID=Europe/Paris:20260904T190000
DTSTAMP:20260424T221504
CREATED:20260417T095032Z
LAST-MODIFIED:20260417T095032Z
UID:17080-1788548400-1788548400@www.cyclo-bourcain.net
SUMMARY:RÉUNION CLUB
DESCRIPTION:
URL:https://www.cyclo-bourcain.net/agenda/reunion-club-2/
END:VEVENT
BEGIN:VEVENT
DTSTART;TZID=Europe/Paris:20260906T080000
DTEND;TZID=Europe/Paris:20260906T170000
DTSTAMP:20260424T221504
CREATED:20260417T095106Z
LAST-MODIFIED:20260417T095106Z
UID:17082-1788681600-1788714000@www.cyclo-bourcain.net
SUMMARY:FORUM ASSOS BLV
DESCRIPTION:
URL:https://www.cyclo-bourcain.net/agenda/forum-assos-blv/
END:VEVENT
BEGIN:VEVENT
DTSTART;TZID=Europe/Paris:20260910T080000
DTEND;TZID=Europe/Paris:20260913T170000
DTSTAMP:20260424T221504
CREATED:20260417T095144Z
LAST-MODIFIED:20260417T095705Z
UID:17084-1789027200-1789318800@www.cyclo-bourcain.net
SUMMARY:SÉJOUR COREG FÉMININ\, BARONNIES
DESCRIPTION:
URL:https://www.cyclo-bourcain.net/agenda/sejour-coreg-feminin-baronnies/
END:VEVENT
BEGIN:VEVENT
DTSTART;TZID=Europe/Paris:20260918T080000
DTEND;TZID=Europe/Paris:20260920T170000
DTSTAMP:20260424T221504
CREATED:20260417T100837Z
LAST-MODIFIED:20260417T100837Z
UID:17087-1789718400-1789923600@www.cyclo-bourcain.net
SUMMARY:LA DRÔMOISE\, DIE
DESCRIPTION:
URL:https://www.cyclo-bourcain.net/agenda/la-dromoise-die/
END:VEVENT
BEGIN:VEVENT
DTSTART;TZID=Europe/Paris:20260925T080000
DTEND;TZID=Europe/Paris:20260925T170000
DTSTAMP:20260424T221504
CREATED:20260417T094650Z
LAST-MODIFIED:20260417T094650Z
UID:17072-1790323200-1790355600@www.cyclo-bourcain.net
SUMMARY:PERMANENCE VÉLOCAL
DESCRIPTION:
URL:https://www.cyclo-bourcain.net/agenda/permanence-velocal-5/
END:VEVENT
END:VCALENDAR